BEGIN:VCALENDAR
VERSION:2.0
PRODID:-//eventon.com NONSGML v1.0//EN
CALSCALE:GREGORIAN
METHOD:PUBLISH
BEGIN:VEVENT
UID:69e8884a0f039
DTSTAMP:20260422T083522Z
DTSTART:20241113T073000Z
DTEND:20241113T093000Z
LOCATION:
SUMMARY:Café rencontre - Novembre
DESCRIPTION:L&rsquo;équipe de la CPME 17 vous donne rendez-vous le 13 nove
 mbre à 08h30 dans les locaux de TGS France à Saintes pour un café-rencon
 tre sur le thème : Perte d’emploi de l’entrepreneur\,  quels revenus p
 our vivre ? En 2023\,  plus de 51 000 chefs d’entreprise ont perdu leur e
 mploi\,  c’est[..]\nhttps://cpme17.fr/evenement/cafe-rencontre-novembre/
URL:https://cpme17.fr/evenement/cafe-rencontre-novembre/
END:VEVENT
END:VCALENDAR