BEGIN:VCALENDAR
VERSION:2.0
PRODID:-//eventon.com NONSGML v1.0//EN
CALSCALE:GREGORIAN
METHOD:PUBLISH
BEGIN:VEVENT
UID:69ecb23d122ea
DTSTAMP:20260425T122325Z
DTSTART:20260609T163000Z
DTEND:20260609T200000Z
LOCATION:
SUMMARY:Gagnez du temps et développez votre activité avec l'IA !
DESCRIPTION:La CPME 17 et la Fondation MMA des Entrepreneurs du Futur vous 
 donnent rendez-vous pour une conférence dirigée sur l&rsquo;IA appliquée
  aux TPE-PME : 📅 9 juin 🕡 18h30 📍 Palais des Congrès de Rochefort
  &nbsp; Objectif ? Démystifier l’intelligence artificielle et présente
 r des cas d’usage concrets directement applicables en entreprise\, [..]\n
 https://cpme17.fr/evenement/gagnez-du-temps-et-developpez-votre-activite-av
 ec-lia/
URL:https://cpme17.fr/evenement/gagnez-du-temps-et-developpez-votre-activite-avec-lia/
END:VEVENT
END:VCALENDAR